BEGIN:VCALENDAR
VERSION:2.0
PRODID:-//Cooperativa DOC - ECPv6.15.13//NONSGML v1.0//EN
CALSCALE:GREGORIAN
METHOD:PUBLISH
X-WR-CALNAME:Cooperativa DOC
X-ORIGINAL-URL:https://cooperativadoc.it
X-WR-CALDESC:Eventi per Cooperativa DOC
REFRESH-INTERVAL;VALUE=DURATION:PT1H
X-Robots-Tag:noindex
X-PUBLISHED-TTL:PT1H
BEGIN:VTIMEZONE
TZID:Europe/Rome
BEGIN:DAYLIGHT
TZOFFSETFROM:+0100
TZOFFSETTO:+0200
TZNAME:CEST
DTSTART:20250330T010000
END:DAYLIGHT
BEGIN:STANDARD
TZOFFSETFROM:+0200
TZOFFSETTO:+0100
TZNAME:CET
DTSTART:20251026T010000
END:STANDARD
BEGIN:DAYLIGHT
TZOFFSETFROM:+0100
TZOFFSETTO:+0200
TZNAME:CEST
DTSTART:20260329T010000
END:DAYLIGHT
BEGIN:STANDARD
TZOFFSETFROM:+0200
TZOFFSETTO:+0100
TZNAME:CET
DTSTART:20261025T010000
END:STANDARD
BEGIN:DAYLIGHT
TZOFFSETFROM:+0100
TZOFFSETTO:+0200
TZNAME:CEST
DTSTART:20270328T010000
END:DAYLIGHT
BEGIN:STANDARD
TZOFFSETFROM:+0200
TZOFFSETTO:+0100
TZNAME:CET
DTSTART:20271031T010000
END:STANDARD
END:VTIMEZONE
BEGIN:VEVENT
DTSTART;TZID=Europe/Rome:20260418T150000
DTEND;TZID=Europe/Rome:20260418T180000
DTSTAMP:20260422T002711
CREATED:20260311T160909Z
LAST-MODIFIED:20260401T164851Z
UID:10000028-1776524400-1776535200@cooperativadoc.it
SUMMARY:Sabato in Cascina 2^ appuntamento 2026
DESCRIPTION:Siamo felici di annunciare il ritorno dei Sabati in Cascina\, l’iniziativa dedicata alle famiglie che trasformerà i nostri weekend in occasioni uniche di incontro e scoperta. Abbiamo progettato un ricco calendario di appuntamenti che ci accompagnerà da marzo fino a dicembre 2026\, offrendo un percorso avvincente fatto di giochi\, laboratori creativi e momenti di condivisione pensati per grandi e piccini. \nSecondo appuntamento: sabato 18 aprile 2026. La scadenza per le iscrizioni al secondo appuntamento è fissata entro il 10 aprile. \n📅 Sabato 18 aprile 2026🕕 Ore 15.00 – 18.00📍 Cascina Fossata – Via Ala di Stura 5\, Torino \n 
URL:https://cooperativadoc.it/event/sabati-in-cascina-18-aprile/
LOCATION:cascina fossata\, Via Ala di Stura 5\, Torino\, 10147\, Italy
CATEGORIES:Sabati in Cascina
ATTACH;FMTTYPE=image/jpeg:https://cooperativadoc.it/wp-content/uploads/2026/03/03_DOC_sabati-in-cascina_evento_1310x655.jpg
ORGANIZER;CN="Cooperativa DOC":MAILTO:info@cooperativadoc.it
END:VEVENT
END:VCALENDAR